BEGIN:VCALENDAR
VERSION:2.0
PRODID:-//FSSI - ECPv6.15.20//NONSGML v1.0//EN
CALSCALE:GREGORIAN
METHOD:PUBLISH
X-ORIGINAL-URL:https://www.fssi.it
X-WR-CALDESC:Eventi per FSSI
REFRESH-INTERVAL;VALUE=DURATION:PT1H
X-Robots-Tag:noindex
X-PUBLISHED-TTL:PT1H
BEGIN:VTIMEZONE
TZID:Europe/Rome
BEGIN:DAYLIGHT
TZOFFSETFROM:+0100
TZOFFSETTO:+0200
TZNAME:CEST
DTSTART:20240331T010000
END:DAYLIGHT
BEGIN:STANDARD
TZOFFSETFROM:+0200
TZOFFSETTO:+0100
TZNAME:CET
DTSTART:20241027T010000
END:STANDARD
BEGIN:DAYLIGHT
TZOFFSETFROM:+0100
TZOFFSETTO:+0200
TZNAME:CEST
DTSTART:20250330T010000
END:DAYLIGHT
BEGIN:STANDARD
TZOFFSETFROM:+0200
TZOFFSETTO:+0100
TZNAME:CET
DTSTART:20251026T010000
END:STANDARD
BEGIN:DAYLIGHT
TZOFFSETFROM:+0100
TZOFFSETTO:+0200
TZNAME:CEST
DTSTART:20260329T010000
END:DAYLIGHT
BEGIN:STANDARD
TZOFFSETFROM:+0200
TZOFFSETTO:+0100
TZNAME:CET
DTSTART:20261025T010000
END:STANDARD
END:VTIMEZONE
BEGIN:VEVENT
DTSTART;VALUE=DATE:20250322
DTEND;VALUE=DATE:20250324
DTSTAMP:20260422T075634
CREATED:20250116T163227Z
LAST-MODIFIED:20250401T122755Z
UID:10005964-1742601600-1742774399@www.fssi.it
SUMMARY:BEACH TENNIS - Indoor
DESCRIPTION:Programma Campionato Italiano Beach Tennis Indoor 2025
URL:https://www.fssi.it/calendario/beach-tennis-5/
LOCATION:Roma\, Roma\, 00144\, Italia
CATEGORIES:Beach Tennis
ATTACH;FMTTYPE=image/png:https://www.fssi.it/wp-content/uploads/2025/01/Schermata-2025-01-16-alle-17.30.10.png
GEO:41.897688133327;12.50028067384
END:VEVENT
END:VCALENDAR