BEGIN:VCALENDAR
VERSION:2.0
PRODID:-//FSSI - ECPv6.15.20//NONSGML v1.0//EN
CALSCALE:GREGORIAN
METHOD:PUBLISH
X-ORIGINAL-URL:https://www.fssi.it
X-WR-CALDESC:Eventi per FSSI
REFRESH-INTERVAL;VALUE=DURATION:PT1H
X-Robots-Tag:noindex
X-PUBLISHED-TTL:PT1H
BEGIN:VTIMEZONE
TZID:Europe/Rome
BEGIN:DAYLIGHT
TZOFFSETFROM:+0100
TZOFFSETTO:+0200
TZNAME:CEST
DTSTART:20250330T010000
END:DAYLIGHT
BEGIN:STANDARD
TZOFFSETFROM:+0200
TZOFFSETTO:+0100
TZNAME:CET
DTSTART:20251026T010000
END:STANDARD
BEGIN:DAYLIGHT
TZOFFSETFROM:+0100
TZOFFSETTO:+0200
TZNAME:CEST
DTSTART:20260329T010000
END:DAYLIGHT
BEGIN:STANDARD
TZOFFSETFROM:+0200
TZOFFSETTO:+0100
TZNAME:CET
DTSTART:20261025T010000
END:STANDARD
BEGIN:DAYLIGHT
TZOFFSETFROM:+0100
TZOFFSETTO:+0200
TZNAME:CEST
DTSTART:20270328T010000
END:DAYLIGHT
BEGIN:STANDARD
TZOFFSETFROM:+0200
TZOFFSETTO:+0100
TZNAME:CET
DTSTART:20271031T010000
END:STANDARD
END:VTIMEZONE
BEGIN:VEVENT
DTSTART;VALUE=DATE:20260130
DTEND;VALUE=DATE:20260202
DTSTAMP:20260421T162200
CREATED:20251216T151306Z
LAST-MODIFIED:20260205T171146Z
UID:10006055-1769731200-1769990399@www.fssi.it
SUMMARY:BEACH TENNIS – Indoor
DESCRIPTION:La società ASD GSS ALBA organizza il Campionato Italiano FSSI Beach Tennis indoor nei giorni 30-31 gennaio e 01 febbraio 2026 con la collaborazione della FSSI e con la FITP. \nProgramma Campionato Italiano Beach Tennis Indoor 2026
URL:https://www.fssi.it/calendario/beach-tennis-indoor-8/
LOCATION:Confreria di Cuneo\, Confreria di Cuneo\, 12100\, Italia
CATEGORIES:Beach Tennis
ATTACH;FMTTYPE=image/jpeg:https://www.fssi.it/wp-content/uploads/2025/12/Screenshot-2025-12-16-alle-16.10.00.jpeg
ORGANIZER;CN="ASD GSS Alba":MAILTO:gssalba@fssi.it
GEO:44.393901;7.515905
END:VEVENT
BEGIN:VEVENT
DTSTART;VALUE=DATE:20260718
DTEND;VALUE=DATE:20260719
DTSTAMP:20260421T162200
CREATED:20260209T172304Z
LAST-MODIFIED:20260209T172304Z
UID:10006130-1784332800-1784419199@www.fssi.it
SUMMARY:BEACH TENNIS – Veneto
DESCRIPTION:Programma Campionato Regionale Veneto Beach Tennis 2026
URL:https://www.fssi.it/calendario/beach-tennis-veneto-2/
LOCATION:Sottomarina (VE)\, Sottomarina Chioggia (VE)\, Italia\, 30015
CATEGORIES:Beach Tennis
ATTACH;FMTTYPE=image/png:https://www.fssi.it/wp-content/uploads/2026/02/Screenshot-2026-02-09-alle-18.21.31.png
ORGANIZER;CN="ASD ENS Venezia":MAILTO:asdensvenezia@fssi.it
GEO:45.223623;12.294925
END:VEVENT
BEGIN:VEVENT
DTSTART;VALUE=DATE:20260718
DTEND;VALUE=DATE:20260719
DTSTAMP:20260421T162200
CREATED:20260421T120446Z
LAST-MODIFIED:20260421T120446Z
UID:10006167-1784332800-1784419199@www.fssi.it
SUMMARY:BEACH TENNIS OUTDOOR - Sicilia
DESCRIPTION:Programma Campionato Regionale Sicilia Beach Tennis Outdoor 2026
URL:https://www.fssi.it/calendario/beach-tennis-outdoor-sicilia-2/
LOCATION:Catania\, Catania\, 95100\, Italia
CATEGORIES:Beach Tennis
ATTACH;FMTTYPE=image/png:https://www.fssi.it/wp-content/uploads/2026/04/Schermata-2026-04-21-alle-13.59.17.png
ORGANIZER;CN="ASD GS ENS Catania":MAILTO:gsenscatania@fssi.it
GEO:37.5134761;15.0973429
END:VEVENT
BEGIN:VEVENT
DTSTART;VALUE=DATE:20260901
DTEND;VALUE=DATE:20261001
DTSTAMP:20260421T162200
CREATED:20251216T152531Z
LAST-MODIFIED:20251219T194943Z
UID:10006061-1788220800-1790812799@www.fssi.it
SUMMARY:BEACH TENNIS - Estivi
DESCRIPTION:
URL:https://www.fssi.it/calendario/beach-tennis-estivi-6/
LOCATION:Roma\, Roma\, 00144\, Italia
CATEGORIES:Beach Tennis
GEO:41.897688133327;12.50028067384
END:VEVENT
END:VCALENDAR