BEGIN:VCALENDAR
VERSION:2.0
PRODID:-//FSSI - ECPv6.15.20//NONSGML v1.0//EN
CALSCALE:GREGORIAN
METHOD:PUBLISH
X-ORIGINAL-URL:https://www.fssi.it
X-WR-CALDESC:Eventi per FSSI
REFRESH-INTERVAL;VALUE=DURATION:PT1H
X-Robots-Tag:noindex
X-PUBLISHED-TTL:PT1H
BEGIN:VTIMEZONE
TZID:Europe/Rome
BEGIN:DAYLIGHT
TZOFFSETFROM:+0100
TZOFFSETTO:+0200
TZNAME:CEST
DTSTART:20140330T010000
END:DAYLIGHT
BEGIN:STANDARD
TZOFFSETFROM:+0200
TZOFFSETTO:+0100
TZNAME:CET
DTSTART:20141026T010000
END:STANDARD
BEGIN:DAYLIGHT
TZOFFSETFROM:+0100
TZOFFSETTO:+0200
TZNAME:CEST
DTSTART:20150329T010000
END:DAYLIGHT
BEGIN:STANDARD
TZOFFSETFROM:+0200
TZOFFSETTO:+0100
TZNAME:CET
DTSTART:20151025T010000
END:STANDARD
BEGIN:DAYLIGHT
TZOFFSETFROM:+0100
TZOFFSETTO:+0200
TZNAME:CEST
DTSTART:20160327T010000
END:DAYLIGHT
BEGIN:STANDARD
TZOFFSETFROM:+0200
TZOFFSETTO:+0100
TZNAME:CET
DTSTART:20161030T010000
END:STANDARD
END:VTIMEZONE
BEGIN:VEVENT
DTSTART;TZID=Europe/Rome:20150320T080000
DTEND;TZID=Europe/Rome:20150320T170000
DTSTAMP:20260421T024209
CREATED:20150309T144721Z
LAST-MODIFIED:20150309T144721Z
UID:10003066-1426838400-1426870800@www.fssi.it
SUMMARY:1° Raduno atleti SUD di Calcio A11
DESCRIPTION:Con la collaborazione del Comitato Regionale Sicilia FSSI\, organizza per il giorno 20 Marzo 2015 a Mazara del Vallo (TP) il 1° Raduno degli atleti del SUD di Calcio A11 in vista per i prossimi Campionati Europei di Calcio A11 che si svolgeranno in Germania a Hannover
URL:http://www.fssi.it/20-marzo-mazara-del-vallo-tp-1-raduno-atleti-sud-di-calcio-a11/
CATEGORIES:Calcio A11
END:VEVENT
END:VCALENDAR