BEGIN:VCALENDAR
VERSION:2.0
PRODID:-//FSSI - ECPv6.15.20//NONSGML v1.0//EN
CALSCALE:GREGORIAN
METHOD:PUBLISH
X-ORIGINAL-URL:https://www.fssi.it
X-WR-CALDESC:Eventi per FSSI
REFRESH-INTERVAL;VALUE=DURATION:PT1H
X-Robots-Tag:noindex
X-PUBLISHED-TTL:PT1H
BEGIN:VTIMEZONE
TZID:Europe/Rome
BEGIN:DAYLIGHT
TZOFFSETFROM:+0100
TZOFFSETTO:+0200
TZNAME:CEST
DTSTART:20140330T010000
END:DAYLIGHT
BEGIN:STANDARD
TZOFFSETFROM:+0200
TZOFFSETTO:+0100
TZNAME:CET
DTSTART:20141026T010000
END:STANDARD
BEGIN:DAYLIGHT
TZOFFSETFROM:+0100
TZOFFSETTO:+0200
TZNAME:CEST
DTSTART:20150329T010000
END:DAYLIGHT
BEGIN:STANDARD
TZOFFSETFROM:+0200
TZOFFSETTO:+0100
TZNAME:CET
DTSTART:20151025T010000
END:STANDARD
BEGIN:DAYLIGHT
TZOFFSETFROM:+0100
TZOFFSETTO:+0200
TZNAME:CEST
DTSTART:20160327T010000
END:DAYLIGHT
BEGIN:STANDARD
TZOFFSETFROM:+0200
TZOFFSETTO:+0100
TZNAME:CET
DTSTART:20161030T010000
END:STANDARD
BEGIN:DAYLIGHT
TZOFFSETFROM:+0100
TZOFFSETTO:+0200
TZNAME:CEST
DTSTART:20170326T010000
END:DAYLIGHT
BEGIN:STANDARD
TZOFFSETFROM:+0200
TZOFFSETTO:+0100
TZNAME:CET
DTSTART:20171029T010000
END:STANDARD
BEGIN:DAYLIGHT
TZOFFSETFROM:+0100
TZOFFSETTO:+0200
TZNAME:CEST
DTSTART:20180325T010000
END:DAYLIGHT
BEGIN:STANDARD
TZOFFSETFROM:+0200
TZOFFSETTO:+0100
TZNAME:CET
DTSTART:20181028T010000
END:STANDARD
BEGIN:DAYLIGHT
TZOFFSETFROM:+0100
TZOFFSETTO:+0200
TZNAME:CEST
DTSTART:20190331T010000
END:DAYLIGHT
BEGIN:STANDARD
TZOFFSETFROM:+0200
TZOFFSETTO:+0100
TZNAME:CET
DTSTART:20191027T010000
END:STANDARD
BEGIN:DAYLIGHT
TZOFFSETFROM:+0100
TZOFFSETTO:+0200
TZNAME:CEST
DTSTART:20200329T010000
END:DAYLIGHT
BEGIN:STANDARD
TZOFFSETFROM:+0200
TZOFFSETTO:+0100
TZNAME:CET
DTSTART:20201025T010000
END:STANDARD
BEGIN:DAYLIGHT
TZOFFSETFROM:+0100
TZOFFSETTO:+0200
TZNAME:CEST
DTSTART:20210328T010000
END:DAYLIGHT
BEGIN:STANDARD
TZOFFSETFROM:+0200
TZOFFSETTO:+0100
TZNAME:CET
DTSTART:20211031T010000
END:STANDARD
BEGIN:DAYLIGHT
TZOFFSETFROM:+0100
TZOFFSETTO:+0200
TZNAME:CEST
DTSTART:20220327T010000
END:DAYLIGHT
BEGIN:STANDARD
TZOFFSETFROM:+0200
TZOFFSETTO:+0100
TZNAME:CET
DTSTART:20221030T010000
END:STANDARD
BEGIN:DAYLIGHT
TZOFFSETFROM:+0100
TZOFFSETTO:+0200
TZNAME:CEST
DTSTART:20230326T010000
END:DAYLIGHT
BEGIN:STANDARD
TZOFFSETFROM:+0200
TZOFFSETTO:+0100
TZNAME:CET
DTSTART:20231029T010000
END:STANDARD
BEGIN:DAYLIGHT
TZOFFSETFROM:+0100
TZOFFSETTO:+0200
TZNAME:CEST
DTSTART:20240331T010000
END:DAYLIGHT
BEGIN:STANDARD
TZOFFSETFROM:+0200
TZOFFSETTO:+0100
TZNAME:CET
DTSTART:20241027T010000
END:STANDARD
END:VTIMEZONE
BEGIN:VEVENT
DTSTART;TZID=Europe/Rome:20150320T080000
DTEND;TZID=Europe/Rome:20150320T170000
DTSTAMP:20260421T074335
CREATED:20150309T144721Z
LAST-MODIFIED:20150309T144721Z
UID:10003066-1426838400-1426870800@www.fssi.it
SUMMARY:1° Raduno atleti SUD di Calcio A11
DESCRIPTION:Con la collaborazione del Comitato Regionale Sicilia FSSI\, organizza per il giorno 20 Marzo 2015 a Mazara del Vallo (TP) il 1° Raduno degli atleti del SUD di Calcio A11 in vista per i prossimi Campionati Europei di Calcio A11 che si svolgeranno in Germania a Hannover
URL:http://www.fssi.it/20-marzo-mazara-del-vallo-tp-1-raduno-atleti-sud-di-calcio-a11/
CATEGORIES:Calcio A11
END:VEVENT
BEGIN:VEVENT
DTSTART;TZID=Europe/Rome:20150403T080000
DTEND;TZID=Europe/Rome:20150403T170000
DTSTAMP:20260421T074335
CREATED:20150319T210453Z
LAST-MODIFIED:20150319T210659Z
UID:10002922-1428048000-1428080400@www.fssi.it
SUMMARY:2° Raduno atleti NORD di Calcio A11
DESCRIPTION:Con la collaborazione USS Bergamo FSSI\, organizza per il giorno 3 Aprile Marzo 2015 a Bergamo (BG) il 2° Raduno degli atleti del NORD di Calcio A11 in vista per i prossimi Campionati Europei di Calcio A11 che si svolgeranno in Germania a Hannover
URL:https://www.fssi.it/calendario/2-raduno-atleti-nord-di-calcio-a11/
LOCATION:Campo Comunale di Levate\, Via Olimpia n. 12\, Levate\, 24040\, Italia
CATEGORIES:Calcio A11
ATTACH;FMTTYPE=image/png:https://www.fssi.it/wp-content/uploads/2015/03/Schermata-2015-03-19-alle-22.01.36.png
ORGANIZER;CN="AS Bergamo ASD":MAILTO:ussbergamo@fssi.it
GEO:45.62238;9.6256964
X-APPLE-STRUCTURED-LOCATION;VALUE=URI;X-ADDRESS=Campo Comunale di Levate Via Olimpia n. 12 Levate 24040 Italia;X-APPLE-RADIUS=500;X-TITLE=Via Olimpia n. 12:geo:9.6256964,45.62238
END:VEVENT
BEGIN:VEVENT
DTSTART;TZID=Europe/Rome:20150411T080000
DTEND;TZID=Europe/Rome:20150411T170000
DTSTAMP:20260421T074335
CREATED:20150317T130857Z
LAST-MODIFIED:20150317T130857Z
UID:10003073-1428739200-1428771600@www.fssi.it
SUMMARY:1° Giornata - Girone A di Calcio A11
DESCRIPTION:Il giorno 11 Aprile si disputa la 1° Giornata – Girone A del Campionato Italiano FSSI Calcio A11 tra USS Bergamo e GSS Torino. \nVisualizza il programma:\nCa11 1^Giornata – Girone A \n  \n 
URL:https://www.fssi.it/calendario/1-giornata-girone-a-di-calcio-a11/
CATEGORIES:Calcio A11
ATTACH;FMTTYPE=image/png:https://www.fssi.it/wp-content/uploads/2015/03/Schermata-2015-03-17-alle-14.04.57.png
END:VEVENT
BEGIN:VEVENT
DTSTART;TZID=Europe/Rome:20150418T080000
DTEND;TZID=Europe/Rome:20150418T170000
DTSTAMP:20260421T074335
CREATED:20150409T081203Z
LAST-MODIFIED:20150409T135739Z
UID:10002928-1429344000-1429376400@www.fssi.it
SUMMARY:Campionato di Calcio A11
DESCRIPTION:Il giorno 18 Aprile si gioca la 1° giornata di Calcio A11 tra PSP Rubino Napoli – ASD Ciociaria Frosinone
URL:https://www.fssi.it/calendario/campionato-di-calcio-a11/
LOCATION:Stadio Comunale di Casalnuovo\, Via Campana 42\, CAsalnuovo\, 80013\, Italia
CATEGORIES:Calcio A11
ATTACH;FMTTYPE=image/png:https://www.fssi.it/wp-content/uploads/2015/04/manifesto-Napoli-vs-ciociara-ok-2.png
ORGANIZER;CN="PSP Rubino Napoli":MAILTO:psprubinonapoli@fssi.it
GEO:40.9165262;14.3464183
X-APPLE-STRUCTURED-LOCATION;VALUE=URI;X-ADDRESS=Stadio Comunale di Casalnuovo Via Campana 42 CAsalnuovo 80013 Italia;X-APPLE-RADIUS=500;X-TITLE=Via Campana 42:geo:14.3464183,40.9165262
END:VEVENT
BEGIN:VEVENT
DTSTART;TZID=Europe/Rome:20150424T080000
DTEND;TZID=Europe/Rome:20150424T170000
DTSTAMP:20260421T074335
CREATED:20150417T092306Z
LAST-MODIFIED:20150417T092306Z
UID:10003081-1429862400-1429894800@www.fssi.it
SUMMARY:3° Raduno di Calcio A11 per atleti del Centro Italia
DESCRIPTION:Il giorno 24 Aprile presso l’impianto sportivo Sport’s Campus di Pomezia si terrà il 3° Raduno di Calcio A11 per atleti del Centro Italia
URL:https://www.fssi.it/calendario/3-raduno-di-calcio-a11-per-atleti-del-centro-italia/
LOCATION:Sport’s Campus\, Via Pontinia km 31\,400\, Pomezia\, 00040\, Italia
CATEGORIES:Calcio A11
ATTACH;FMTTYPE=image/png:https://www.fssi.it/wp-content/uploads/2015/04/Schermata-2015-04-17-alle-11.20.07.png
ORGANIZER;CN="FSSI":MAILTO:webmaster@fssi.it
GEO:41.6693373;12.5023439
X-APPLE-STRUCTURED-LOCATION;VALUE=URI;X-ADDRESS=Sport’s Campus Via Pontinia km 31400 Pomezia 00040 Italia;X-APPLE-RADIUS=500;X-TITLE=Via Pontinia km 31\,400:geo:12.5023439,41.6693373
END:VEVENT
BEGIN:VEVENT
DTSTART;VALUE=DATE:20150514
DTEND;VALUE=DATE:20150528
DTSTAMP:20260421T074335
CREATED:20181020T175808Z
LAST-MODIFIED:20181020T175808Z
UID:10003393-1431561600-1432771199@www.fssi.it
SUMMARY:CALCIO A11 - Campionato Europeo
DESCRIPTION:
URL:http://www.fssi.it/calcioa11/index.php?option=com_content&#038;view=category&#038;id=71:preliminare-europeo-2015-hannover&#038;layout=blog&#038;Itemid=77
LOCATION:Hannover\, Hannover\, Germany
CATEGORIES:Calcio A11,Internazionale
ORGANIZER;CN="EDSO":MAILTO:info@edso.eu
GEO:52.3758916;9.7320104
END:VEVENT
BEGIN:VEVENT
DTSTART;TZID=Europe/Rome:20150515T080000
DTEND;TZID=Europe/Rome:20150516T170000
DTSTAMP:20260421T074335
CREATED:20150429T150543Z
LAST-MODIFIED:20150429T150543Z
UID:10003087-1431676800-1431795600@www.fssi.it
SUMMARY:Fase Finale di Calcio A11
DESCRIPTION:PSP F. Rubino Napoli organizza nei giorni 15-16 Maggio 2015 le Fasi Finali del Campionato Italiano FSSI di Calcio A11
URL:https://www.fssi.it/calendario/fase-finale-di-calcio-a11/
LOCATION:Stadio Comunale di Casalnuovo\, Via Campana 42\, CAsalnuovo\, 80013\, Italia
CATEGORIES:Calcio A11
ATTACH;FMTTYPE=image/png:https://www.fssi.it/wp-content/uploads/2015/04/calcio-a-11.png
ORGANIZER;CN="PSP Rubino Napoli":MAILTO:psprubinonapoli@fssi.it
GEO:40.9165262;14.3464183
X-APPLE-STRUCTURED-LOCATION;VALUE=URI;X-ADDRESS=Stadio Comunale di Casalnuovo Via Campana 42 CAsalnuovo 80013 Italia;X-APPLE-RADIUS=500;X-TITLE=Via Campana 42:geo:14.3464183,40.9165262
END:VEVENT
BEGIN:VEVENT
DTSTART;TZID=Europe/Rome:20160423T080000
DTEND;TZID=Europe/Rome:20160423T170000
DTSTAMP:20260421T074335
CREATED:20160412T074713Z
LAST-MODIFIED:20160412T074953Z
UID:10003198-1461398400-1461430800@www.fssi.it
SUMMARY:Semifinale A di Coppa Italia Calcio A11
DESCRIPTION:L’ASD Ciociaria il giorno 23 Aprile organizza la semifinale A di Coppa Italia Calcio A11 presso il Centro Sportivo “Capo I Prati”\, in viale dello Sport a Fiuggi
URL:https://www.fssi.it/calendario/coppa-italia-di-calcio-a11-2/
LOCATION:Capo I Prati\, Viale dello Sport\, Fiuggi\, 03014
CATEGORIES:Calcio A11
ATTACH;FMTTYPE=image/jpeg:https://www.fssi.it/wp-content/uploads/2016/04/Manifesto-frosinone-siena-coppaitaliac11.jpg
ORGANIZER;CN="ASD Ciociaria":MAILTO:ciociaria@fssi.it
GEO:41.7812465;13.2322913
X-APPLE-STRUCTURED-LOCATION;VALUE=URI;X-ADDRESS=Capo I Prati Viale dello Sport Fiuggi 03014;X-APPLE-RADIUS=500;X-TITLE=Viale dello Sport:geo:13.2322913,41.7812465
END:VEVENT
BEGIN:VEVENT
DTSTART;TZID=Europe/Rome:20160423T080000
DTEND;TZID=Europe/Rome:20160423T170000
DTSTAMP:20260421T074335
CREATED:20160412T135850Z
LAST-MODIFIED:20160412T135850Z
UID:10003212-1461398400-1461430800@www.fssi.it
SUMMARY:Semifinale B di Coppa Italia Calcio A11
DESCRIPTION:L’ASD GS ENS Varese il giorno 23 Aprile organizza la semifinale B di Coppa Italia Calcio A11 presso il Centro Sportivo “Varesello”\, in via Majano a Varese
URL:https://www.fssi.it/calendario/semifinale-b-di-coppa-italia-calcio-a11/
CATEGORIES:Calcio A11
ATTACH;FMTTYPE=image/png:https://www.fssi.it/wp-content/uploads/2016/04/Schermata-2016-04-12-alle-15.46.41.png
END:VEVENT
BEGIN:VEVENT
DTSTART;TZID=Europe/Rome:20160528T080000
DTEND;TZID=Europe/Rome:20160528T170000
DTSTAMP:20260421T074335
CREATED:20160325T095525Z
LAST-MODIFIED:20160519T125642Z
UID:10003184-1464422400-1464454800@www.fssi.it
SUMMARY:Coppa Italia di Calcio A11
DESCRIPTION:La società GSS Torino organizza nel giorno 28 Maggio 2016 la finale di  Coppa Italia FSSI Calcio A11\, presso il Campo Sportivo Pertusa
URL:https://www.fssi.it/calendario/coppa-italia-di-calcio-a11/
LOCATION:Campo Sportivo Mercadante\, Via Saverio Mercadante 133\, Torino\, 10121\, Italia
CATEGORIES:Calcio A11
ATTACH;FMTTYPE=image/png:https://www.fssi.it/wp-content/uploads/2016/03/Schermata-2016-05-19-alle-14.56.10.png
ORGANIZER;CN="GSS Torino":MAILTO:gsstorino@fssi.it
GEO:45.0985317;7.7033621
X-APPLE-STRUCTURED-LOCATION;VALUE=URI;X-ADDRESS=Campo Sportivo Mercadante Via Saverio Mercadante 133 Torino 10121 Italia;X-APPLE-RADIUS=500;X-TITLE=Via Saverio Mercadante 133:geo:7.7033621,45.0985317
END:VEVENT
BEGIN:VEVENT
DTSTART;VALUE=DATE:20160619
DTEND;VALUE=DATE:20160703
DTSTAMP:20260421T074335
CREATED:20181020T180333Z
LAST-MODIFIED:20181021T075015Z
UID:10003394-1466294400-1467503999@www.fssi.it
SUMMARY:CALCIO A11 - Campionato Mondiale
DESCRIPTION:
URL:http://www.difa-org.com/single-post/2016/07/05/World-Deaf-Football-Championships-2016#new_tab
LOCATION:Capaccio\, Capaccio\, Italia
CATEGORIES:Calcio A11,Internazionale
ORGANIZER;CN="FSSI":MAILTO:webmaster@fssi.it
GEO:40.4248153;15.0769699
END:VEVENT
BEGIN:VEVENT
DTSTART;TZID=Europe/Rome:20161015T080000
DTEND;TZID=Europe/Rome:20161015T170000
DTSTAMP:20260421T074335
CREATED:20161001T140651Z
LAST-MODIFIED:20161001T140651Z
UID:10002986-1476518400-1476550800@www.fssi.it
SUMMARY:Qualificazioni Nazionale Calcio A11 - Italia vs Danimarca
DESCRIPTION:Sabato 15 Ottobre presso il Centro Sportivo SSD Fiesole\, in via di Bugia a Fiesole (FI) si terrà la partita di Qualificazione di Calcio A11 tra Italia vs Danimarca\, valevole per le prossime Deaflympics 2017 che si terranno in Turchia. \n 
URL:https://www.fssi.it/calendario/qualificazioni-nazionale-calcio-a11-italia-vs-danimarca/
LOCATION:Campo Sportivo SSD Fiesole\, Via di Bugia\, Fiesole\, 50014\, Italia
CATEGORIES:Calcio A11
ATTACH;FMTTYPE=image/png:https://www.fssi.it/wp-content/uploads/2016/10/Schermata-2016-10-01-alle-15.54.19.png
GEO:43.8350893;11.3107441
X-APPLE-STRUCTURED-LOCATION;VALUE=URI;X-ADDRESS=Campo Sportivo SSD Fiesole Via di Bugia Fiesole 50014 Italia;X-APPLE-RADIUS=500;X-TITLE=Via di Bugia:geo:11.3107441,43.8350893
END:VEVENT
BEGIN:VEVENT
DTSTART;TZID=Europe/Rome:20170519T080000
DTEND;TZID=Europe/Rome:20170520T170000
DTSTAMP:20260421T074335
CREATED:20170421T110659Z
LAST-MODIFIED:20170518T070800Z
UID:10003274-1495180800-1495299600@www.fssi.it
SUMMARY:Fase Finale di Calcio A11
DESCRIPTION:Nei giorni 19-20 Maggio 2017\, la società SSS Siena organizza la fase finale di Calcio A11 presso lo stadio comunale “Gino Manni” a Colle Val d’Elsa. \nVisualizza anche il Comunicato Ufficiale n. 16/2017
URL:https://www.fssi.it/calendario/fase-finale-di-calcio-a11-2/
LOCATION:Stadio Artemio Franchi\, Vide dei Mille 3\, Siena\, 53100\, Italia
CATEGORIES:Calcio A11
ATTACH;FMTTYPE=image/jpeg:https://www.fssi.it/wp-content/uploads/2017/04/LOCANDINA1-1.jpg
ORGANIZER;CN="SSS Siena":MAILTO:avesiena@fssi.it
GEO:43.3205303;11.3265
X-APPLE-STRUCTURED-LOCATION;VALUE=URI;X-ADDRESS=Stadio Artemio Franchi Vide dei Mille 3 Siena 53100 Italia;X-APPLE-RADIUS=500;X-TITLE=Vide dei Mille 3:geo:11.3265,43.3205303
END:VEVENT
BEGIN:VEVENT
DTSTART;TZID=Europe/Rome:20170609T080000
DTEND;TZID=Europe/Rome:20170611T170000
DTSTAMP:20260421T074335
CREATED:20170526T110644Z
LAST-MODIFIED:20170526T110644Z
UID:10003281-1496995200-1497200400@www.fssi.it
SUMMARY:1° Raduno Pre-Olimpico di Calcio A11
DESCRIPTION:Nei giorni 9-11 Giugno 2017 a Paratico (BS) si terrà il 1° Raduno Pre-Olimpico di Calcio A11 \nVisualizza gli allegati:\nRaduno Pre Olimpico di Calcio A11
URL:https://www.fssi.it/calendario/1-raduno-pre-olimpico-di-calcio-a11/
CATEGORIES:Calcio A11
ATTACH;FMTTYPE=image/jpeg:https://www.fssi.it/wp-content/uploads/2017/05/2017-05-26-PHOTO-00004293.jpg
END:VEVENT
BEGIN:VEVENT
DTSTART;VALUE=DATE:20171021
DTEND;VALUE=DATE:20171022
DTSTAMP:20260421T074335
CREATED:20180409T192539Z
LAST-MODIFIED:20180409T192702Z
UID:10003074-1508544000-1508630399@www.fssi.it
SUMMARY:CALCIO A11 – Qualificazioni Serbia – Italia
DESCRIPTION:
URL:http://www.fssi.it/calcio-a11-lista-degli-atleti-azzurri-convocati/
LOCATION:Belgrado\, Belgrado\, Serbia
CATEGORIES:Calcio A11,Internazionale
ATTACH;FMTTYPE=image/png:https://www.fssi.it/wp-content/uploads/2018/04/programma-allestimento.png
ORGANIZER;CN="EDSO":MAILTO:info@edso.eu
GEO:44.786568;20.4489216
END:VEVENT
BEGIN:VEVENT
DTSTART;VALUE=DATE:20180421
DTEND;VALUE=DATE:20180422
DTSTAMP:20260421T074335
CREATED:20180409T200123Z
LAST-MODIFIED:20180423T155139Z
UID:10003350-1524268800-1524355199@www.fssi.it
SUMMARY:CALCIO A11 – Qualificazioni Italia – Germania
DESCRIPTION:Il 21 Aprile 2018 presso il Centro Sportivo Augusto Manzo alle ore 16 si terrà la partita per le qualificazioni agli Europei di Calcio tra Italia vs Germania. Evento Internazionale \nVisualizza gli allegati:\nManifesto Ufficiale\nMenù della cena di gala\nPrenotazioni del menu della cena di gala\nVisualizza il video su youtube\nVisualizza l’elenco degli azzurri convocati \nVisualizza la rassegna stampa:\nhttps://www.fssi.it/alba-ospita-la-partita-italia-vs-germania-tra-nazionali-con-giocatori-sordi/
URL:https://www.fssi.it/calendario/calcio-a11-qualificazioni-italia-germania/
LOCATION:Alba\, Alba\, 12051\, Italia
CATEGORIES:Calcio A11,Internazionale
ATTACH;FMTTYPE=image/png:https://www.fssi.it/wp-content/uploads/2017/10/Schermata-2018-03-01-alle-14.04.42.png
ORGANIZER;CN="FSSI":MAILTO:webmaster@fssi.it
GEO:44.7009153;8.0356911
END:VEVENT
BEGIN:VEVENT
DTSTART;VALUE=DATE:20180512
DTEND;VALUE=DATE:20180513
DTSTAMP:20260421T074335
CREATED:20180407T184436Z
LAST-MODIFIED:20180522T194524Z
UID:10003330-1526083200-1526169599@www.fssi.it
SUMMARY:CALCIO A11 – Campionato Italiano
DESCRIPTION:Visualizza il Comunicato Ufficiale n. 17/2018\nhttps://www.fssi.it/comunicato-ufficiale-n-17-2018/
URL:https://www.fssi.it/calendario/calcio-a11-campionato-italiano/
LOCATION:Venaria Reale\, Via San Marchese 27\, Venaria Reale\, 10078\, Italia
CATEGORIES:Calcio A11
ATTACH;FMTTYPE=image/png:https://www.fssi.it/wp-content/uploads/2018/04/Schermata-2018-04-24-alle-21.18.14.png
ORGANIZER;CN="GSS Torino":MAILTO:gsstorino@fssi.it
GEO:45.1268868;7.645006
X-APPLE-STRUCTURED-LOCATION;VALUE=URI;X-ADDRESS=Venaria Reale Via San Marchese 27 Venaria Reale 10078 Italia;X-APPLE-RADIUS=500;X-TITLE=Via San Marchese 27:geo:7.645006,45.1268868
END:VEVENT
BEGIN:VEVENT
DTSTART;TZID=Europe/Rome:20180520T080000
DTEND;TZID=Europe/Rome:20180520T170000
DTSTAMP:20260421T074335
CREATED:20180220T232503Z
LAST-MODIFIED:20180612T145639Z
UID:10003306-1526803200-1526835600@www.fssi.it
SUMMARY:CALCIO A11 - "Under21"
DESCRIPTION:La Federazione Sport Sordi Italia (FSSI) indice e organizza in via sperimentale il Campionato Italiano di Calcio a 11 Under21. \nVisualizza il Comunicato Ufficiale n. 6/2018
URL:https://www.fssi.it/calendario/calcio-a11-under21/
LOCATION:Palazzetto Martorano\, Via Calcinaro 1165\, Martorano\, 47522\, Italia
CATEGORIES:Calcio A11
ATTACH;FMTTYPE=image/jpeg:https://www.fssi.it/wp-content/uploads/2018/02/1-1.jpg
ORGANIZER;CN="ASD Quadrifoglio Sport Ravenna":MAILTO:asdquadrifogliosportravenna@fssi.it
GEO:44.1689862;12.2568812
X-APPLE-STRUCTURED-LOCATION;VALUE=URI;X-ADDRESS=Palazzetto Martorano Via Calcinaro 1165 Martorano 47522 Italia;X-APPLE-RADIUS=500;X-TITLE=Via Calcinaro 1165:geo:12.2568812,44.1689862
END:VEVENT
BEGIN:VEVENT
DTSTART;VALUE=DATE:20180528
DTEND;VALUE=DATE:20180603
DTSTAMP:20260421T074335
CREATED:20180409T201432Z
LAST-MODIFIED:20180612T210843Z
UID:10003355-1527465600-1527983999@www.fssi.it
SUMMARY:CALCIO A11 – Deaf Champions League
DESCRIPTION:
URL:http://www.deafchampionsleague.eu/milan2018
LOCATION:Milano\, Milano\, 20019\, Italia
CATEGORIES:Calcio A11,Internazionale
ATTACH;FMTTYPE=image/png:https://www.fssi.it/wp-content/uploads/2018/04/programma-allestimento.png
GEO:45.4829769;9.0559241
END:VEVENT
BEGIN:VEVENT
DTSTART;VALUE=DATE:20190406
DTEND;VALUE=DATE:20190407
DTSTAMP:20260421T074335
CREATED:20190218T141216Z
LAST-MODIFIED:20190513T152751Z
UID:10003153-1554508800-1554595199@www.fssi.it
SUMMARY:CALCIO A 11 - Campionato Regionale
DESCRIPTION:L’ASD Ciociaria Frosinone in collaborazione con il Delegato Regionale Lazio FSSI indice e organizza\, per il giorno 6 aprile il Campionato Regionale Lazio FSSI – Calcio A11 per la stagione sportiva 2018/19\, seguendo le fasi di svolgimento previste nel presente Regolamento. \nVisualizza gli allegati:\nProgramma Campionato Regionale Lazio Calcio a 11\nDistinta Gare Calcio a 11 Campionato – 6 APRILE (1)\nLista Atleti Calcio a 11 – 6 APRILE (1)\nCENA SOCIALE – 6 APRILE
URL:https://www.fssi.it/calendario/calcio-a-11-campionato-regionale/
LOCATION:Fiuggi\, Fiuggi\, Italia
CATEGORIES:Calcio A11
ATTACH;FMTTYPE=image/jpeg:https://www.fssi.it/wp-content/uploads/2019/02/programma-6-aprile-ok.jpg
ORGANIZER;CN="ASD Ciociaria":MAILTO:ciociaria@fssi.it
GEO:41.8002398;13.2242691
END:VEVENT
BEGIN:VEVENT
DTSTART;VALUE=DATE:20190415
DTEND;VALUE=DATE:20190421
DTSTAMP:20260421T074335
CREATED:20190224T215205Z
LAST-MODIFIED:20190503T063300Z
UID:10003159-1555286400-1555804799@www.fssi.it
SUMMARY:CALCIO A11 - Deaf Champions League
DESCRIPTION:
URL:https://www.fssi.it/calendario/calcio-a11-deaf-champions-league/
LOCATION:London\, London
CATEGORIES:Calcio A11,Internazionale
ATTACH;FMTTYPE=image/jpeg:https://www.fssi.it/wp-content/uploads/2019/02/DCL-Calcio-a-11.jpg
GEO:51.5073509;-0.1277583
END:VEVENT
BEGIN:VEVENT
DTSTART;VALUE=DATE:20190510
DTEND;VALUE=DATE:20190512
DTSTAMP:20260421T074335
CREATED:20181203T231107Z
LAST-MODIFIED:20190514T162626Z
UID:10003457-1557446400-1557619199@www.fssi.it
SUMMARY:CALCIO A 11 - Campionato Italiano
DESCRIPTION:La Federazione Sport Sordi Italia (FSSI) indice e organizza il Campionato Italiano di Calcio a 11 della stagione sportiva 2018/2019. A detta manifestazione partecipano le seguenti società affiliate alla FSSI\, per la corrente stagione sportiva 2018/2019 in regola con le modalità di iscrizione\, di cui alle Disposizioni Organizzative Annuali FSSI per l’anno 2018/2019 \nVisualizza il comunicato Ufficiale n. 20/2019\nhttps://www.fssi.it/comunicato-ufficiale-n-20-2019/
URL:https://www.fssi.it/calendario/calcio-a-11-campionato-italiano/
LOCATION:Siena\, Siena\, Italia
CATEGORIES:Calcio A11
ATTACH;FMTTYPE=image/jpeg:https://www.fssi.it/wp-content/uploads/2018/12/Manifesto-Campionato-Italiano-Calcio-a-11.jpg
ORGANIZER;CN="SSS Siena":MAILTO:avesiena@fssi.it
GEO:43.318809;11.3307574
END:VEVENT
BEGIN:VEVENT
DTSTART;VALUE=DATE:20200515
DTEND;VALUE=DATE:20200517
DTSTAMP:20260421T074335
CREATED:20191203T193710Z
LAST-MODIFIED:20200611T104350Z
UID:10003197-1589500800-1589673599@www.fssi.it
SUMMARY:CALCIO A 11 - Campionato Italiano - Annullato per Covid-19
DESCRIPTION:
URL:https://www.fssi.it/calendario/calcio-a-11-campionato-italiano-2/
LOCATION:Celano\, Celano
CATEGORIES:Calcio A11
ATTACH;FMTTYPE=image/png:https://www.fssi.it/wp-content/uploads/2018/04/programma-allestimento.png
GEO:42.0822512;13.5429874
END:VEVENT
BEGIN:VEVENT
DTSTART;VALUE=DATE:20210605
DTEND;VALUE=DATE:20210607
DTSTAMP:20260421T074335
CREATED:20210420T152533Z
LAST-MODIFIED:20210607T170657Z
UID:10005542-1622851200-1623023999@www.fssi.it
SUMMARY:CALCIO A 11 – Campionato Italiano
DESCRIPTION:La Fase Finale del Campionato Italiano di Calcio sarà disputata in sede unica ad Albano Laziale (RM) nei giorni 5 – 6 giugno 2021\, con l’organizzazione assegnata alla Società ASD Deafspqr. \nVisualizza il Comunicato Ufficiale n. 25
URL:https://www.fssi.it/calendario/calcio-a-11-campionato-italiano-3/
LOCATION:Roma\, Roma\, 00144\, Italia
CATEGORIES:Calcio A11
ATTACH;FMTTYPE=image/png:https://www.fssi.it/wp-content/uploads/2021/04/Fase-finale-Calcio-A11-Albano-Laziale.png
GEO:41.897688133327;12.50028067384
END:VEVENT
BEGIN:VEVENT
DTSTART;VALUE=DATE:20210704
DTEND;VALUE=DATE:20210705
DTSTAMP:20260421T074335
CREATED:20210103T161550Z
LAST-MODIFIED:20210712T081920Z
UID:10003556-1625356800-1625443199@www.fssi.it
SUMMARY:CALCIO A 11 – Qualif. Italia-Danimarca
DESCRIPTION:Lista degli atleti convocati per la partita Italia-Danimarca Qualificazioni Calcio Deaflympics 2022 il giorno 4 luglio 2021 a Trezzo sull’Adda (Ml) \nVisualizza la lista degli atleti azzurri convocati\nVisualizza Partita ufficiale FSSI ITALIA-DANIMARCA 4 luglio 2021
URL:https://www.fssi.it/calendario/calcio-a-11-qualif-italia-danimarca/
LOCATION:Trezzo sull’Adda\, Trezzo sull'Adda (MI)\, Italia
CATEGORIES:Calcio A11
ATTACH;FMTTYPE=image/png:https://www.fssi.it/wp-content/uploads/2021/01/Partita-ufficiale-FSSI-ITALIA-DANIMARCA-4-luglio-2021-Locandina-B-aggiornata-al-23.06.2021.png
ORGANIZER;CN="EDSO":MAILTO:info@edso.eu
GEO:45.6130516;9.501934
END:VEVENT
BEGIN:VEVENT
DTSTART;VALUE=DATE:20210918
DTEND;VALUE=DATE:20210919
DTSTAMP:20260421T074335
CREATED:20210103T162223Z
LAST-MODIFIED:20210929T092856Z
UID:10003560-1631923200-1632009599@www.fssi.it
SUMMARY:CALCIO A 11 – Qualif. Ucraina – Italia
DESCRIPTION:
URL:https://www.fssi.it/calendario/calcio-a-11-qualif-ucraina-italia/
LOCATION:Poltava (UKR)\, Poltava (UKR)\, Ucraina
CATEGORIES:Calcio A11
ATTACH;FMTTYPE=image/jpeg:https://www.fssi.it/wp-content/uploads/2021/01/PHOTO-2021-09-03-14-16-40.jpg
ORGANIZER;CN="EDSO":MAILTO:info@edso.eu
GEO:49.588267;34.5514169
END:VEVENT
BEGIN:VEVENT
DTSTART;VALUE=DATE:20220409
DTEND;VALUE=DATE:20220410
DTSTAMP:20260421T074335
CREATED:20220324T074926Z
LAST-MODIFIED:20220412T192556Z
UID:10005622-1649462400-1649548799@www.fssi.it
SUMMARY:CALCIO A11
DESCRIPTION:Il Delegato Regionale del Lazio indice e organizza il Campionato Italiano Regionale Lazio di Calcio della stagione sportiva 2021/22. A detta manifestazione partecipano le seguenti società affiliate alla FSSI\, per la corrente stagione sportiva 2021/22 in regola con le modalità di iscrizione\, di cui alle Disposizioni Organizzative Annuali FSSI per l’anno 2021/22 \nVisualizza gli allegati:\nProgramma Campionato Regionale Lazio Calcio 2022\nLocandina Calcio A11 – 9 Aprile
URL:https://www.fssi.it/calendario/calcio-a11/
LOCATION:Nemi\, Nemi\, Italia
CATEGORIES:Calcio A11
ATTACH;FMTTYPE=image/png:https://www.fssi.it/wp-content/uploads/2022/03/Schermata-2022-03-24-alle-08.45.40.png
GEO:41.7196755;12.7167242
END:VEVENT
BEGIN:VEVENT
DTSTART;VALUE=DATE:20220611
DTEND;VALUE=DATE:20220613
DTSTAMP:20260421T074335
CREATED:20211206T210106Z
LAST-MODIFIED:20220614T145151Z
UID:10003296-1654905600-1655078399@www.fssi.it
SUMMARY:CALCIO A 11 - Campionato Italiano
DESCRIPTION:Visualizza anche il Comunicato Ufficiale n. 22/2022
URL:https://www.fssi.it/calendario/calcio-a-11-campionato-italiano-4/
LOCATION:bari\, Bari\, Italia
CATEGORIES:Calcio A11
ATTACH;FMTTYPE=image/png:https://www.fssi.it/wp-content/uploads/2021/12/Manifesto-Campionato-Italiano-Calcio-2022.png
ORGANIZER;CN="Pol. Sordi Bari":MAILTO:asdpolsordibari@fssi.it
GEO:41.1171432;16.8718715
END:VEVENT
BEGIN:VEVENT
DTSTART;VALUE=DATE:20220620
DTEND;VALUE=DATE:20220626
DTSTAMP:20260421T074335
CREATED:20220225T142826Z
LAST-MODIFIED:20220628T204426Z
UID:10005617-1655683200-1656201599@www.fssi.it
SUMMARY:FOOTBALL – DCL
DESCRIPTION:
URL:https://www.deafchampionsleague.eu/patras2022/football/men/last-news/last-news#new_tab
LOCATION:Patrasso\, Patrasso\, Greece
CATEGORIES:Calcio A11
ATTACH;FMTTYPE=image/jpeg:https://www.fssi.it/wp-content/uploads/2022/02/poster-dcl-patras-2022.jpeg
GEO:38.2466395;21.734574
END:VEVENT
BEGIN:VEVENT
DTSTART;VALUE=DATE:20230603
DTEND;VALUE=DATE:20230604
DTSTAMP:20260421T074335
CREATED:20221215T173932Z
LAST-MODIFIED:20230615T094935Z
UID:10005695-1685750400-1685836799@www.fssi.it
SUMMARY:CALCIO
DESCRIPTION:
URL:https://www.fssi.it/calendario/calcio/
LOCATION:Genova\, Genova\, Italia
CATEGORIES:Calcio A11
ATTACH;FMTTYPE=image/png:https://www.fssi.it/wp-content/uploads/2022/12/Screenshot-2023-04-20-alle-19.36.12.png
ORGANIZER;CN="ADS GSS Genova":MAILTO:cssgenova@fssi.it
GEO:44.4056499;8.946256
END:VEVENT
END:VCALENDAR