BEGIN:VCALENDAR
VERSION:2.0
PRODID:-//FSSI - ECPv6.15.20//NONSGML v1.0//EN
CALSCALE:GREGORIAN
METHOD:PUBLISH
X-WR-CALNAME:FSSI
X-ORIGINAL-URL:https://www.fssi.it
X-WR-CALDESC:Eventi per FSSI
REFRESH-INTERVAL;VALUE=DURATION:PT1H
X-Robots-Tag:noindex
X-PUBLISHED-TTL:PT1H
BEGIN:VTIMEZONE
TZID:Europe/Rome
BEGIN:DAYLIGHT
TZOFFSETFROM:+0100
TZOFFSETTO:+0200
TZNAME:CEST
DTSTART:20170326T010000
END:DAYLIGHT
BEGIN:STANDARD
TZOFFSETFROM:+0200
TZOFFSETTO:+0100
TZNAME:CET
DTSTART:20171029T010000
END:STANDARD
BEGIN:DAYLIGHT
TZOFFSETFROM:+0100
TZOFFSETTO:+0200
TZNAME:CEST
DTSTART:20180325T010000
END:DAYLIGHT
BEGIN:STANDARD
TZOFFSETFROM:+0200
TZOFFSETTO:+0100
TZNAME:CET
DTSTART:20181028T010000
END:STANDARD
BEGIN:DAYLIGHT
TZOFFSETFROM:+0100
TZOFFSETTO:+0200
TZNAME:CEST
DTSTART:20190331T010000
END:DAYLIGHT
BEGIN:STANDARD
TZOFFSETFROM:+0200
TZOFFSETTO:+0100
TZNAME:CET
DTSTART:20191027T010000
END:STANDARD
END:VTIMEZONE
BEGIN:VEVENT
DTSTART;VALUE=DATE:20180415
DTEND;VALUE=DATE:20180416
DTSTAMP:20260421T045812
CREATED:20180407T173052Z
LAST-MODIFIED:20180418T203619Z
UID:10003320-1523750400-1523836799@www.fssi.it
SUMMARY:CALCIO A5 - Campionato Regionale
DESCRIPTION:Nel giorno 15 aprile il Comitato Regionale FSSI Sicilia e l’ A. S. D. Peloritana Sordi Barcellona P. G. (ME) organizza il Campionato Regionale FSSI Sicilia di Calcio a 5\, si giocherà al Campo di gara c/o Sant’Anna (accanto officina FIAT Gemelli). \nVisualizza gli allegati\nCampionato-Regionale-Sicilia-Calcio-a-5-1
URL:https://www.fssi.it/calendario/calcio-a5-campionato-regionale-2/
LOCATION:Campo Sant’Anna\, Via Ugo Foscolo\, Barcellona P. G.\, 98051\, Italia
CATEGORIES:Calcio A5
ATTACH;FMTTYPE=image/png:https://www.fssi.it/wp-content/uploads/2018/04/Schermata-2018-04-07-alle-19.26.09.png
GEO:38.1487482;15.2266048
X-APPLE-STRUCTURED-LOCATION;VALUE=URI;X-ADDRESS=Campo Sant’Anna Via Ugo Foscolo Barcellona P. G. 98051 Italia;X-APPLE-RADIUS=500;X-TITLE=Via Ugo Foscolo:geo:15.2266048,38.1487482
END:VEVENT
END:VCALENDAR