BEGIN:VCALENDAR
VERSION:2.0
PRODID:-//FSSI - ECPv6.15.20//NONSGML v1.0//EN
CALSCALE:GREGORIAN
METHOD:PUBLISH
X-ORIGINAL-URL:https://www.fssi.it
X-WR-CALDESC:Eventi per FSSI
REFRESH-INTERVAL;VALUE=DURATION:PT1H
X-Robots-Tag:noindex
X-PUBLISHED-TTL:PT1H
BEGIN:VTIMEZONE
TZID:Europe/Rome
BEGIN:DAYLIGHT
TZOFFSETFROM:+0100
TZOFFSETTO:+0200
TZNAME:CEST
DTSTART:20170326T010000
END:DAYLIGHT
BEGIN:STANDARD
TZOFFSETFROM:+0200
TZOFFSETTO:+0100
TZNAME:CET
DTSTART:20171029T010000
END:STANDARD
BEGIN:DAYLIGHT
TZOFFSETFROM:+0100
TZOFFSETTO:+0200
TZNAME:CEST
DTSTART:20180325T010000
END:DAYLIGHT
BEGIN:STANDARD
TZOFFSETFROM:+0200
TZOFFSETTO:+0100
TZNAME:CET
DTSTART:20181028T010000
END:STANDARD
BEGIN:DAYLIGHT
TZOFFSETFROM:+0100
TZOFFSETTO:+0200
TZNAME:CEST
DTSTART:20190331T010000
END:DAYLIGHT
BEGIN:STANDARD
TZOFFSETFROM:+0200
TZOFFSETTO:+0100
TZNAME:CET
DTSTART:20191027T010000
END:STANDARD
BEGIN:DAYLIGHT
TZOFFSETFROM:+0100
TZOFFSETTO:+0200
TZNAME:CEST
DTSTART:20200329T010000
END:DAYLIGHT
BEGIN:STANDARD
TZOFFSETFROM:+0200
TZOFFSETTO:+0100
TZNAME:CET
DTSTART:20201025T010000
END:STANDARD
BEGIN:DAYLIGHT
TZOFFSETFROM:+0100
TZOFFSETTO:+0200
TZNAME:CEST
DTSTART:20210328T010000
END:DAYLIGHT
BEGIN:STANDARD
TZOFFSETFROM:+0200
TZOFFSETTO:+0100
TZNAME:CET
DTSTART:20211031T010000
END:STANDARD
BEGIN:DAYLIGHT
TZOFFSETFROM:+0100
TZOFFSETTO:+0200
TZNAME:CEST
DTSTART:20220327T010000
END:DAYLIGHT
BEGIN:STANDARD
TZOFFSETFROM:+0200
TZOFFSETTO:+0100
TZNAME:CET
DTSTART:20221030T010000
END:STANDARD
BEGIN:DAYLIGHT
TZOFFSETFROM:+0100
TZOFFSETTO:+0200
TZNAME:CEST
DTSTART:20230326T010000
END:DAYLIGHT
BEGIN:STANDARD
TZOFFSETFROM:+0200
TZOFFSETTO:+0100
TZNAME:CET
DTSTART:20231029T010000
END:STANDARD
BEGIN:DAYLIGHT
TZOFFSETFROM:+0100
TZOFFSETTO:+0200
TZNAME:CEST
DTSTART:20240331T010000
END:DAYLIGHT
BEGIN:STANDARD
TZOFFSETFROM:+0200
TZOFFSETTO:+0100
TZNAME:CET
DTSTART:20241027T010000
END:STANDARD
BEGIN:DAYLIGHT
TZOFFSETFROM:+0100
TZOFFSETTO:+0200
TZNAME:CEST
DTSTART:20250330T010000
END:DAYLIGHT
BEGIN:STANDARD
TZOFFSETFROM:+0200
TZOFFSETTO:+0100
TZNAME:CET
DTSTART:20251026T010000
END:STANDARD
BEGIN:DAYLIGHT
TZOFFSETFROM:+0100
TZOFFSETTO:+0200
TZNAME:CEST
DTSTART:20260329T010000
END:DAYLIGHT
BEGIN:STANDARD
TZOFFSETFROM:+0200
TZOFFSETTO:+0100
TZNAME:CET
DTSTART:20261025T010000
END:STANDARD
END:VTIMEZONE
BEGIN:VEVENT
DTSTART;VALUE=DATE:20250705
DTEND;VALUE=DATE:20250706
DTSTAMP:20260421T213150
CREATED:20250429T120620Z
LAST-MODIFIED:20250714T123130Z
UID:10006019-1751673600-1751759999@www.fssi.it
SUMMARY:BEACH VOLLEY - Sicilia
DESCRIPTION:Programma Campionato Regionale Sicilia Beach Volley 2025
URL:https://www.fssi.it/calendario/beach-volley-sicilia/
LOCATION:Catania\, Catania\, 95100\, Italia
CATEGORIES:Beach Volley M/F
ATTACH;FMTTYPE=image/jpeg:https://www.fssi.it/wp-content/uploads/2025/04/Screenshot-2025-04-29-alle-14.05.15.jpeg
ORGANIZER;CN="ASD GS ENS Catania":MAILTO:gsenscatania@fssi.it
GEO:37.5134761;15.0973429
END:VEVENT
BEGIN:VEVENT
DTSTART;VALUE=DATE:20230603
DTEND;VALUE=DATE:20230604
DTSTAMP:20260421T213150
CREATED:20230420T173407Z
LAST-MODIFIED:20230606T182722Z
UID:10003422-1685750400-1685836799@www.fssi.it
SUMMARY:BEACH TENNIS - Indoor
DESCRIPTION:Le gare avranno luogo SABATO 3 GIUGNO 2023\, nel locale PALA BEACH VILLAGE CONTRADA ALESSI VIA NICOLA COVIELLO\, 95030 GRAVINA DI CATANIA (CT) Possono partecipare al campionato i giocatori sordi\, purché in possesso della tessera FSSI regolarmente vidimata per la stagione sportiva 2022/2023 e si svolge regolarmente se raggiunge il minimo di 3 società. \nProgramma Campionato Regionale Sicilia Beach Tennis Indoor 2023
URL:https://www.fssi.it/calendario/beach-tennis-indoor-5/
LOCATION:Catania\, Catania\, 95100\, Italia
CATEGORIES:Beach Tennis
ATTACH;FMTTYPE=image/png:https://www.fssi.it/wp-content/uploads/2023/04/Screenshot-2023-04-20-alle-19.32.15.png
ORGANIZER;CN="ASD GS ENS Messina":MAILTO:gsensmessina@fssi.it
GEO:37.5134761;15.0973429
END:VEVENT
BEGIN:VEVENT
DTSTART;VALUE=DATE:20230416
DTEND;VALUE=DATE:20230417
DTSTAMP:20260421T213150
CREATED:20230328T203714Z
LAST-MODIFIED:20230828T122311Z
UID:10005717-1681603200-1681689599@www.fssi.it
SUMMARY:PADEL - 2^ tappa e Fase Finale
DESCRIPTION:Programma Campionato Regionale Sicilia Padel 2 tappa e Fase Finale 2023
URL:https://www.fssi.it/calendario/padel-2-tappa-e-fase-finale-2023/
LOCATION:Catania\, Catania\, 95100\, Italia
CATEGORIES:Padel
ATTACH;FMTTYPE=image/png:https://www.fssi.it/wp-content/uploads/2023/03/Screenshot-2023-03-28-alle-22.35.05.png
ORGANIZER;CN="ASD GS ENS Catania":MAILTO:gsenscatania@fssi.it
GEO:37.5134761;15.0973429
END:VEVENT
BEGIN:VEVENT
DTSTART;VALUE=DATE:20220507
DTEND;VALUE=DATE:20220508
DTSTAMP:20260421T213150
CREATED:20220317T173136Z
LAST-MODIFIED:20220602T114222Z
UID:10005623-1651881600-1651967999@www.fssi.it
SUMMARY:BEACH TENNIS - Indoor
DESCRIPTION:Visualizza gli allegati:\nProgramma Campionato Regionale Sicilia Beach Tennis Indoor 2022
URL:https://www.fssi.it/calendario/beach-tennis-indoor-3/
LOCATION:Catania\, Catania\, 95100\, Italia
CATEGORIES:Beach Tennis
ATTACH;FMTTYPE=image/png:https://www.fssi.it/wp-content/uploads/2022/03/Schermata-2022-03-17-alle-18.28.01.png
ORGANIZER;CN="ASD GS ENS Messina":MAILTO:gsensmessina@fssi.it
GEO:37.5134761;15.0973429
END:VEVENT
BEGIN:VEVENT
DTSTART;VALUE=DATE:20180907
DTEND;VALUE=DATE:20180910
DTSTAMP:20260421T213150
CREATED:20180407T193056Z
LAST-MODIFIED:20180918T112339Z
UID:10003338-1536278400-1536537599@www.fssi.it
SUMMARY:BEACH VOLLEY – Campionato Italiano
DESCRIPTION:La Federazione Sport Sordi Italia (FSSI) indice e organizza il Campionato Italiano di Beach Volley Maschile e Femminile con la collaborazione della società sportiva GS ENS Catania della stagione sportiva 2017/18. A detta manifestazione partecipano le società affiliate alla FSSI\, per la corrente stagione sportiva in regola con le modalità di iscrizione\, di cui alle Disposizioni Organizzative Annuali FSSI per l’anno 2017/18 (v. www.fssi.it). \nVisualizza gli allegati:\nCampionato Italiano Beach Volley 2017-18\nModulo-iscrizione-Beach-Volley_2018\nMAPPA – DOVE SIAMO\nProgramma gare BV 2018
URL:https://www.fssi.it/calendario/beach-volley-campionato-italiano/
LOCATION:Catania\, Catania\, 95100\, Italia
CATEGORIES:Beach Volley M/F
ATTACH;FMTTYPE=image/png:https://www.fssi.it/wp-content/uploads/2018/04/Schermata-2018-04-18-alle-08.38.13.png
ORGANIZER;CN="ASD GS ENS Catania":MAILTO:gsenscatania@fssi.it
GEO:37.5134761;15.0973429
END:VEVENT
END:VCALENDAR