BEGIN:VCALENDAR
VERSION:2.0
PRODID:-//FSSI - ECPv6.15.20//NONSGML v1.0//EN
CALSCALE:GREGORIAN
METHOD:PUBLISH
X-ORIGINAL-URL:https://www.fssi.it
X-WR-CALDESC:Eventi per FSSI
REFRESH-INTERVAL;VALUE=DURATION:PT1H
X-Robots-Tag:noindex
X-PUBLISHED-TTL:PT1H
BEGIN:VTIMEZONE
TZID:Europe/Rome
BEGIN:DAYLIGHT
TZOFFSETFROM:+0100
TZOFFSETTO:+0200
TZNAME:CEST
DTSTART:20210328T010000
END:DAYLIGHT
BEGIN:STANDARD
TZOFFSETFROM:+0200
TZOFFSETTO:+0100
TZNAME:CET
DTSTART:20211031T010000
END:STANDARD
BEGIN:DAYLIGHT
TZOFFSETFROM:+0100
TZOFFSETTO:+0200
TZNAME:CEST
DTSTART:20220327T010000
END:DAYLIGHT
BEGIN:STANDARD
TZOFFSETFROM:+0200
TZOFFSETTO:+0100
TZNAME:CET
DTSTART:20221030T010000
END:STANDARD
BEGIN:DAYLIGHT
TZOFFSETFROM:+0100
TZOFFSETTO:+0200
TZNAME:CEST
DTSTART:20230326T010000
END:DAYLIGHT
BEGIN:STANDARD
TZOFFSETFROM:+0200
TZOFFSETTO:+0100
TZNAME:CET
DTSTART:20231029T010000
END:STANDARD
BEGIN:DAYLIGHT
TZOFFSETFROM:+0100
TZOFFSETTO:+0200
TZNAME:CEST
DTSTART:20240331T010000
END:DAYLIGHT
BEGIN:STANDARD
TZOFFSETFROM:+0200
TZOFFSETTO:+0100
TZNAME:CET
DTSTART:20241027T010000
END:STANDARD
END:VTIMEZONE
BEGIN:VEVENT
DTSTART;VALUE=DATE:20230624
DTEND;VALUE=DATE:20230625
DTSTAMP:20260419T175840
CREATED:20230404T154923Z
LAST-MODIFIED:20230626T133551Z
UID:10005718-1687564800-1687651199@www.fssi.it
SUMMARY:BEACH SOCCER
DESCRIPTION:Programma Campionato Italiano Beach Soccer 2023
URL:https://www.fssi.it/calendario/beach-soccer-5/
LOCATION:Marina di Eboli\, Marina di Eboli
CATEGORIES:Beach Soccer
ATTACH;FMTTYPE=image/png:https://www.fssi.it/wp-content/uploads/2023/04/Schermata-2023-04-04-alle-17.47.52.png
ORGANIZER;CN="ASD Wolves Avellino":MAILTO:asdwolvesavellino.
GEO:40.6179234;15.0564332
END:VEVENT
BEGIN:VEVENT
DTSTART;VALUE=DATE:20220709
DTEND;VALUE=DATE:20220710
DTSTAMP:20260419T175840
CREATED:20220428T160038Z
LAST-MODIFIED:20220712T145244Z
UID:10005636-1657324800-1657411199@www.fssi.it
SUMMARY:BEACH SOCCER
DESCRIPTION:Visualizza gli allegati:\nmodulo d’iscrizione del Campionato Italiano di beach soccer 2022
URL:https://www.fssi.it/calendario/beach-soccer-3/
LOCATION:Marina di Eboli\, Marina di Eboli
CATEGORIES:Beach Soccer
ATTACH;FMTTYPE=image/jpeg:https://www.fssi.it/wp-content/uploads/2022/04/Manifesto-Campionato-Italiano-Beach-Soccer-2022.jpg
ORGANIZER;CN="ASD Wolves Avellino":MAILTO:asdwolvesavellino.
GEO:40.6179234;15.0564332
END:VEVENT
END:VCALENDAR