BEGIN:VCALENDAR
VERSION:2.0
PRODID:-//FSSI - ECPv6.15.20//NONSGML v1.0//EN
CALSCALE:GREGORIAN
METHOD:PUBLISH
X-ORIGINAL-URL:https://www.fssi.it
X-WR-CALDESC:Eventi per FSSI
REFRESH-INTERVAL;VALUE=DURATION:PT1H
X-Robots-Tag:noindex
X-PUBLISHED-TTL:PT1H
BEGIN:VTIMEZONE
TZID:Europe/Rome
BEGIN:DAYLIGHT
TZOFFSETFROM:+0100
TZOFFSETTO:+0200
TZNAME:CEST
DTSTART:20180325T010000
END:DAYLIGHT
BEGIN:STANDARD
TZOFFSETFROM:+0200
TZOFFSETTO:+0100
TZNAME:CET
DTSTART:20181028T010000
END:STANDARD
BEGIN:DAYLIGHT
TZOFFSETFROM:+0100
TZOFFSETTO:+0200
TZNAME:CEST
DTSTART:20190331T010000
END:DAYLIGHT
BEGIN:STANDARD
TZOFFSETFROM:+0200
TZOFFSETTO:+0100
TZNAME:CET
DTSTART:20191027T010000
END:STANDARD
BEGIN:DAYLIGHT
TZOFFSETFROM:+0100
TZOFFSETTO:+0200
TZNAME:CEST
DTSTART:20200329T010000
END:DAYLIGHT
BEGIN:STANDARD
TZOFFSETFROM:+0200
TZOFFSETTO:+0100
TZNAME:CET
DTSTART:20201025T010000
END:STANDARD
BEGIN:DAYLIGHT
TZOFFSETFROM:+0100
TZOFFSETTO:+0200
TZNAME:CEST
DTSTART:20210328T010000
END:DAYLIGHT
BEGIN:STANDARD
TZOFFSETFROM:+0200
TZOFFSETTO:+0100
TZNAME:CET
DTSTART:20211031T010000
END:STANDARD
END:VTIMEZONE
BEGIN:VEVENT
DTSTART;VALUE=DATE:20200229
DTEND;VALUE=DATE:20200301
DTSTAMP:20260420T233347
CREATED:20200204T113332Z
LAST-MODIFIED:20200611T103854Z
UID:10003538-1582934400-1583020799@www.fssi.it
SUMMARY:CALCIO A 5 - Supercoppa Italiana - Annullato per Covid-19
DESCRIPTION:Visualizza il Comunicato Ufficiale:\nhttps://www.fssi.it/comunicato-ufficiale-n-9-2020/
URL:https://www.fssi.it/calendario/calcio-a-5-supercoppa-italiana-2/
LOCATION:Roma\, Roma\, Italia
CATEGORIES:Calcio A5
ATTACH;FMTTYPE=image/jpeg:https://www.fssi.it/wp-content/uploads/2020/02/Manifesto-Supercoppa-Italiana-Calcio-A5-2020.jpg
GEO:41.9027835;12.4963655
END:VEVENT
BEGIN:VEVENT
DTSTART;VALUE=DATE:20190119
DTEND;VALUE=DATE:20190121
DTSTAMP:20260420T233347
CREATED:20181203T231823Z
LAST-MODIFIED:20190122T091932Z
UID:10003459-1547856000-1548028799@www.fssi.it
SUMMARY:CALCIO A 5 - Coppa Italia M
DESCRIPTION:Visualizza gli allegati:\nInfo Logistica
URL:https://www.fssi.it/calendario/calcio-a-5-coppa-italia-m/
LOCATION:Potenza\, Potenza\, Italia
CATEGORIES:Calcio A5
ATTACH;FMTTYPE=image/jpeg:https://www.fssi.it/wp-content/uploads/2018/12/Manifesto-Coppa-Italia-Calcio-a-5-Maschile.jpg
GEO:40.6404067;15.8056041
END:VEVENT
END:VCALENDAR