BEGIN:VCALENDAR
VERSION:2.0
PRODID:-//FSSI - ECPv6.15.20//NONSGML v1.0//EN
CALSCALE:GREGORIAN
METHOD:PUBLISH
X-ORIGINAL-URL:https://www.fssi.it
X-WR-CALDESC:Eventi per FSSI
REFRESH-INTERVAL;VALUE=DURATION:PT1H
X-Robots-Tag:noindex
X-PUBLISHED-TTL:PT1H
BEGIN:VTIMEZONE
TZID:Europe/Rome
BEGIN:DAYLIGHT
TZOFFSETFROM:+0100
TZOFFSETTO:+0200
TZNAME:CEST
DTSTART:20170326T010000
END:DAYLIGHT
BEGIN:STANDARD
TZOFFSETFROM:+0200
TZOFFSETTO:+0100
TZNAME:CET
DTSTART:20171029T010000
END:STANDARD
BEGIN:DAYLIGHT
TZOFFSETFROM:+0100
TZOFFSETTO:+0200
TZNAME:CEST
DTSTART:20180325T010000
END:DAYLIGHT
BEGIN:STANDARD
TZOFFSETFROM:+0200
TZOFFSETTO:+0100
TZNAME:CET
DTSTART:20181028T010000
END:STANDARD
BEGIN:DAYLIGHT
TZOFFSETFROM:+0100
TZOFFSETTO:+0200
TZNAME:CEST
DTSTART:20190331T010000
END:DAYLIGHT
BEGIN:STANDARD
TZOFFSETFROM:+0200
TZOFFSETTO:+0100
TZNAME:CET
DTSTART:20191027T010000
END:STANDARD
BEGIN:DAYLIGHT
TZOFFSETFROM:+0100
TZOFFSETTO:+0200
TZNAME:CEST
DTSTART:20200329T010000
END:DAYLIGHT
BEGIN:STANDARD
TZOFFSETFROM:+0200
TZOFFSETTO:+0100
TZNAME:CET
DTSTART:20201025T010000
END:STANDARD
BEGIN:DAYLIGHT
TZOFFSETFROM:+0100
TZOFFSETTO:+0200
TZNAME:CEST
DTSTART:20210328T010000
END:DAYLIGHT
BEGIN:STANDARD
TZOFFSETFROM:+0200
TZOFFSETTO:+0100
TZNAME:CET
DTSTART:20211031T010000
END:STANDARD
BEGIN:DAYLIGHT
TZOFFSETFROM:+0100
TZOFFSETTO:+0200
TZNAME:CEST
DTSTART:20220327T010000
END:DAYLIGHT
BEGIN:STANDARD
TZOFFSETFROM:+0200
TZOFFSETTO:+0100
TZNAME:CET
DTSTART:20221030T010000
END:STANDARD
BEGIN:DAYLIGHT
TZOFFSETFROM:+0100
TZOFFSETTO:+0200
TZNAME:CEST
DTSTART:20230326T010000
END:DAYLIGHT
BEGIN:STANDARD
TZOFFSETFROM:+0200
TZOFFSETTO:+0100
TZNAME:CET
DTSTART:20231029T010000
END:STANDARD
BEGIN:DAYLIGHT
TZOFFSETFROM:+0100
TZOFFSETTO:+0200
TZNAME:CEST
DTSTART:20240331T010000
END:DAYLIGHT
BEGIN:STANDARD
TZOFFSETFROM:+0200
TZOFFSETTO:+0100
TZNAME:CET
DTSTART:20241027T010000
END:STANDARD
BEGIN:DAYLIGHT
TZOFFSETFROM:+0100
TZOFFSETTO:+0200
TZNAME:CEST
DTSTART:20250330T010000
END:DAYLIGHT
BEGIN:STANDARD
TZOFFSETFROM:+0200
TZOFFSETTO:+0100
TZNAME:CET
DTSTART:20251026T010000
END:STANDARD
BEGIN:DAYLIGHT
TZOFFSETFROM:+0100
TZOFFSETTO:+0200
TZNAME:CEST
DTSTART:20260329T010000
END:DAYLIGHT
BEGIN:STANDARD
TZOFFSETFROM:+0200
TZOFFSETTO:+0100
TZNAME:CET
DTSTART:20261025T010000
END:STANDARD
END:VTIMEZONE
BEGIN:VEVENT
DTSTART;VALUE=DATE:20250125
DTEND;VALUE=DATE:20250127
DTSTAMP:20260420T215128
CREATED:20241203T222112Z
LAST-MODIFIED:20250204T122312Z
UID:10005934-1737763200-1737935999@www.fssi.it
SUMMARY:NUOTO - Invernali 25mt
DESCRIPTION:La società sportiva Rari Nantes Nomentano organizza il Campionato Italiano di Nuoto Invernale F.S.S.I. in vasca da 25 mt. Le gare si svolgeranno contestualmente e all’interno del TROFEO LAZIO NUOTO (nel 125° anniversario della nascita) nei giorni SABATO 25 E DOMENICA 26 GENNAIO 2025 presso STADIO DEL NUOTO FROSINONE – Viale Olimpia\, 12. \nProgramma Campionato Italiano Nuoto Invernali 25 mt 2025
URL:https://www.fssi.it/calendario/nuoto-invernali-25mt-5/
LOCATION:Frosinone\, Frosinone\, 03100\, Italia
CATEGORIES:Nuoto
ATTACH;FMTTYPE=image/png:https://www.fssi.it/wp-content/uploads/2024/12/Schermata-2024-12-09-alle-12.17.07.png
GEO:41.6394526;13.3426709
END:VEVENT
BEGIN:VEVENT
DTSTART;VALUE=DATE:20240203
DTEND;VALUE=DATE:20240205
DTSTAMP:20260420T215128
CREATED:20231201T183035Z
LAST-MODIFIED:20240219T174152Z
UID:10005782-1706918400-1707091199@www.fssi.it
SUMMARY:NUOTO - Invernali 25mt
DESCRIPTION:La società̀ sportiva ASD Rari Nantes Nomentano organizza il Campionato Italiano di Nuoto Invernali FSSI in vasca da 25 mt. Le gare si svolgeranno contestualmente e all’interno del VII° trofeo SIS Roma nei giorni sabato 3 e domenica 4 febbraio presso il Centro Federale Polo Natatorio di Ostia – Via delle Quinqueremi n° 100. \nProgramma Campionato Italiano Nuoto Invernali 2024
URL:https://www.fssi.it/calendario/nuoto-invernali-25mt-4/
LOCATION:Ostia (RM)\, Via Quinqueremi\, 100\, Ostia\, 00122\, Italia
CATEGORIES:Nuoto
ATTACH;FMTTYPE=image/png:https://www.fssi.it/wp-content/uploads/2023/12/Screenshot-2023-12-04-alle-17.44.38.png
GEO:41.7218023;12.2981161
X-APPLE-STRUCTURED-LOCATION;VALUE=URI;X-ADDRESS=Ostia (RM) Via Quinqueremi 100 Ostia 00122 Italia;X-APPLE-RADIUS=500;X-TITLE=Via Quinqueremi\, 100:geo:12.2981161,41.7218023
END:VEVENT
BEGIN:VEVENT
DTSTART;VALUE=DATE:20230211
DTEND;VALUE=DATE:20230213
DTSTAMP:20260420T215128
CREATED:20221129T214928Z
LAST-MODIFIED:20230216T175350Z
UID:10005678-1676073600-1676246399@www.fssi.it
SUMMARY:NUOTO - Invernali 25mt
DESCRIPTION:Potranno essere iscritti alla manifestazione gli atleti sordi regolarmente tesserati con società̀ affiliate alla FSSI nella stagione sportiva in corso. Le tessere regolarmente vidimate per l’anno in corso devono essere esibite all’atto della disputa delle gare (stampa lista propri tesserati da sito FSSI). Possono essere iscritti alle gare atleti appartenenti alle categorie come da regolamento Fin: esordienti\, ragazzi\, juniores e Assoluti. Ogni società̀ ha la responsabilità̀ di controllare la validità̀ della visita medica agonistica dei propri atleti. \nISCRIZIONI NUOTO\nProgramma Campionato Italiano Nuoto Invernali 2023 \nVisualizza la diretta streaming dell’evento:\nhttps://www.youtube.com/@SISROMA/featured
URL:https://www.fssi.it/calendario/nuoto-invernali-25mt-3/
LOCATION:Roma\, Roma\, 00144\, Italia
CATEGORIES:Nuoto
ATTACH;FMTTYPE=image/png:https://www.fssi.it/wp-content/uploads/2022/11/Schermata-2022-12-22-alle-19.21.41.png
GEO:41.897688133327;12.50028067384
END:VEVENT
BEGIN:VEVENT
DTSTART;VALUE=DATE:20220205
DTEND;VALUE=DATE:20220207
DTSTAMP:20260420T215128
CREATED:20211206T210724Z
LAST-MODIFIED:20220210T193809Z
UID:10005585-1644019200-1644191999@www.fssi.it
SUMMARY:NUOTO - Invernali 25mt
DESCRIPTION:La società sportiva Rari Nantes Nomentano organizza i Campionati italiani “Assoluti” di nuoto 2020 F.S.S.I. appuntamento invernale in vasca corta. Le gare si svolgeranno contestualmente e all’interno del 5° trofeo SIS Roma\, in collaborazione con il Comitato Regionale FIN Lazio\, che si svolgeranno sabato 5 e domenica 6 febbraio intera giornata presso il Centro Federale di Ostia (Roma)\, via Quinqueremi 100\, Vasca Piscina base 25 mt – 8 corsie\, cronometraggio elettronico. \nVisualizza gli allegati:\nProgramma Campionato Italiano Nuoto Invernali 2022\nISCRIZIONI NUOTO ROMA 2022
URL:https://www.fssi.it/calendario/nuoto-invernali-25mt-2/
LOCATION:Ostia (RM)\, Via Quinqueremi\, 100\, Ostia\, 00122\, Italia
CATEGORIES:Nuoto
ATTACH;FMTTYPE=image/png:https://www.fssi.it/wp-content/uploads/2021/12/Schermata-2021-12-21-alle-19.10.49.png
GEO:41.7218023;12.2981161
X-APPLE-STRUCTURED-LOCATION;VALUE=URI;X-ADDRESS=Ostia (RM) Via Quinqueremi 100 Ostia 00122 Italia;X-APPLE-RADIUS=500;X-TITLE=Via Quinqueremi\, 100:geo:12.2981161,41.7218023
END:VEVENT
BEGIN:VEVENT
DTSTART;VALUE=DATE:20200125
DTEND;VALUE=DATE:20200127
DTSTAMP:20260420T215129
CREATED:20191203T222229Z
LAST-MODIFIED:20200129T180953Z
UID:10003520-1579910400-1580083199@www.fssi.it
SUMMARY:NUOTO - Invernali 25mt
DESCRIPTION:La società sportiva Rari Nantes Nomentano organizza i Campionati italiani “Assoluti” di nuoto 2020 F.S.S.I. appuntamento invernale in vasca corta. Le gare si svolgeranno contestualmente e all’interno del 4 ° trofeo SIS Roma\, in collaborazione con il Comitato Regionale FIN Lazio\, che si svolgeranno sabato 25 e domenica 26 gennaio intera giornata presso il Centro Federale di Ostia (Roma)\, via Quinqueremi 100\, Vasca Piscina base 25 mt – 8 corsie\, cronometraggio elettronico. \nVisualizza gli allegati:\nProgramma Campionato Italiano Nuoto Invernali 25 mt\nISCRIZIONI NUOTO ROMA 2020
URL:https://www.fssi.it/calendario/nuoto-invernali-25mt/
LOCATION:Ostia (RM)\, Via Quinqueremi\, 100\, Ostia\, 00122\, Italia
CATEGORIES:Nuoto
ATTACH;FMTTYPE=image/png:https://www.fssi.it/wp-content/uploads/2019/12/Schermata-2019-12-19-alle-12.56.17.png
GEO:41.7218023;12.2981161
X-APPLE-STRUCTURED-LOCATION;VALUE=URI;X-ADDRESS=Ostia (RM) Via Quinqueremi 100 Ostia 00122 Italia;X-APPLE-RADIUS=500;X-TITLE=Via Quinqueremi\, 100:geo:12.2981161,41.7218023
END:VEVENT
BEGIN:VEVENT
DTSTART;VALUE=DATE:20190126
DTEND;VALUE=DATE:20190128
DTSTAMP:20260420T215129
CREATED:20181016T081821Z
LAST-MODIFIED:20190201T115004Z
UID:10003102-1548460800-1548633599@www.fssi.it
SUMMARY:NUOTO – Vasca Corta 25mt
DESCRIPTION:La società sportiva Rari Nantes Nomentano organizza i Campionati italiani “Assoluti” di nuoto 2018 F.S.S.I. appuntamento invernale in vasca corta. Le gare si svolgeranno contestualmente e all’interno del 3° trofeo SIS Roma\, in collaborazione con il Comitato Regionale FIN Lazio\, che si svolgeranno sabato 26 pomeriggio e domenica 27 gennaio intera giornata presso il Centro Federale di Ostia (Roma)\, via Quinqueremi 100\, Vasca Piscina base 25 mt – 8 corsie\, cronometraggio elettronico. \nVisualizza gli allegati:\nMODULO ISCRIZIONI NUOTO ROMA\nCAMPIONATI ITALIANI FSSI INVERNALI 25MT 2019
URL:https://www.fssi.it/calendario/nuoto-vasca-corta-25mt/
LOCATION:Ostia (RM)\, Via Quinqueremi\, 100\, Ostia\, 00122\, Italia
CATEGORIES:Nuoto
ATTACH;FMTTYPE=image/png:https://www.fssi.it/wp-content/uploads/2018/10/Schermata-2018-10-22-alle-12.12.12.png
GEO:41.7218023;12.2981161
X-APPLE-STRUCTURED-LOCATION;VALUE=URI;X-ADDRESS=Ostia (RM) Via Quinqueremi 100 Ostia 00122 Italia;X-APPLE-RADIUS=500;X-TITLE=Via Quinqueremi\, 100:geo:12.2981161,41.7218023
END:VEVENT
BEGIN:VEVENT
DTSTART;VALUE=DATE:20180616
DTEND;VALUE=DATE:20180618
DTSTAMP:20260420T215129
CREATED:20180409T112544Z
LAST-MODIFIED:20180621T204602Z
UID:10003071-1529107200-1529279999@www.fssi.it
SUMMARY:NUOTO – Estivi 50mt
DESCRIPTION:La ASD RARI NANTES NOMENTANO con la collaborazione della SIS Roma e del comitato regionale FIN Lazio organizzano i campionati italiani FSSI nuoto “estivi” in vasca da 50 mt. La manifestazione si svolgerà presso il polo natatorio di Pietralata in via Achille se Zigno\, 7 00158 Roma – base 50 metri\, 10 corsie\, piscina scoperta\, cronometraggio elettronico. \nVisualizza gli allegati:\nCAMPIONATI ITALIANI FSSI ESTIVI 2018 50 MT\nISCRIZIONI NUOTO ROMA 2018
URL:https://www.fssi.it/calendario/nuoto-estivi-50mt/
LOCATION:Roma\, Roma\, Italia
CATEGORIES:Nuoto
ATTACH;FMTTYPE=image/png:https://www.fssi.it/wp-content/uploads/2018/04/Schermata-2018-05-08-alle-15.27.24.png
GEO:41.9027835;12.4963655
END:VEVENT
END:VCALENDAR